BEGIN:VCALENDAR
VERSION:2.0
PRODID:-//ITC (Industry Transformation Center) - ECPv5.3.1.1//NONSGML v1.0//EN
CALSCALE:GREGORIAN
METHOD:PUBLISH
X-WR-CALNAME:ITC (Industry Transformation Center)
X-ORIGINAL-URL:https://www.itc.or.th
X-WR-CALDESC:Events for ITC (Industry Transformation Center)
BEGIN:VTIMEZONE
TZID:Asia/Krasnoyarsk
BEGIN:STANDARD
TZOFFSETFROM:+0700
TZOFFSETTO:+0700
TZNAME:+07
DTSTART:20170101T000000
END:STANDARD
END:VTIMEZONE
BEGIN:VEVENT
DTSTART;TZID=Asia/Krasnoyarsk:20171213T090000
DTEND;TZID=Asia/Krasnoyarsk:20171213T170000
DTSTAMP:20260426T004850
CREATED:20171114T064024Z
LAST-MODIFIED:20180306T072508Z
UID:15816-1513155600-1513184400@www.itc.or.th
SUMMARY:Free Seminar สัมมนา 3D Experience Technology Day
DESCRIPTION:งานที่จะเปิดประตูสู่โลกของเทคโนโลยีที่จะช่วยสนับสนุนงานด้าน Prototype สู่ภาคอุตสาหกรรม ยุค 4.0 (Thailand 4.0) \nกำหนดการสัมมนา   Book1dassault \nจัดขึ้นที่         ศูนย์ ITC อาคารต้นกล้าแกลลอรี่  ศูนย์ปฏิรูปอุตสาหกรรมสู่อนาคต 86/6 ตรีมิตร(กล้วยน้ำไท)  ถนน พระรามที่ 4 \nแขวงพระโขนง เขตคลองเตย กรุงเทพมหานคร 10110 \nลิงค์แผนที่ https://goo.gl/maps/XGq36syq4bu \n  \n  \nสนใจเข้าร่วมการสัมมนาพร้อม ลงทะเบียนทาง Onlineได้ที่ \nwww.mtec.or.th/mtec-training-seminar \nEmail : center.p@thaiplastics.org \nFacebook : ITC Industry Transformation Center \nWebsite : www.itc.or.th \nโทร.02-391-5340-43
URL:https://www.itc.or.th/?tribe_events=free-seminar-%e0%b8%aa%e0%b8%b1%e0%b8%a1%e0%b8%a1%e0%b8%99%e0%b8%b2-3d-experience-technology-day
ATTACH;FMTTYPE=image/jpeg:https://www.itc.or.th/wp-content/uploads/2018/01/dussault-last.jpg
ORGANIZER;CN="":MAILTO:center.p@thaiplastics.org
END:VEVENT
END:VCALENDAR